BEGIN:VCALENDAR
VERSION:2.0
PRODID:-//Town of Nahant, Massachusetts - ECPv6.15.20//NONSGML v1.0//EN
CALSCALE:GREGORIAN
METHOD:PUBLISH
X-WR-CALNAME:Town of Nahant, Massachusetts
X-ORIGINAL-URL:https://nahant.org
X-WR-CALDESC:Events for Town of Nahant, Massachusetts
REFRESH-INTERVAL;VALUE=DURATION:PT1H
X-Robots-Tag:noindex
X-PUBLISHED-TTL:PT1H
BEGIN:VTIMEZONE
TZID:America/New_York
BEGIN:DAYLIGHT
TZOFFSETFROM:-0500
TZOFFSETTO:-0400
TZNAME:EDT
DTSTART:20250309T070000
END:DAYLIGHT
BEGIN:STANDARD
TZOFFSETFROM:-0400
TZOFFSETTO:-0500
TZNAME:EST
DTSTART:20251102T060000
END:STANDARD
BEGIN:DAYLIGHT
TZOFFSETFROM:-0500
TZOFFSETTO:-0400
TZNAME:EDT
DTSTART:20260308T070000
END:DAYLIGHT
BEGIN:STANDARD
TZOFFSETFROM:-0400
TZOFFSETTO:-0500
TZNAME:EST
DTSTART:20261101T060000
END:STANDARD
BEGIN:DAYLIGHT
TZOFFSETFROM:-0500
TZOFFSETTO:-0400
TZNAME:EDT
DTSTART:20270314T070000
END:DAYLIGHT
BEGIN:STANDARD
TZOFFSETFROM:-0400
TZOFFSETTO:-0500
TZNAME:EST
DTSTART:20271107T060000
END:STANDARD
END:VTIMEZONE
BEGIN:VEVENT
DTSTART;TZID=America/New_York:20260414T183000
DTEND;TZID=America/New_York:20260414T213000
DTSTAMP:20260420T061127
CREATED:20260331T133739Z
LAST-MODIFIED:20260331T135645Z
UID:29711-1776191400-1776202200@nahant.org
SUMMARY:PLANNING BOARD HEARING
DESCRIPTION:Venue: Hybrid – Zoom and Town Hall Lower level Conference Room \nAgenda:\nTOWN OF NAHANT LEGAL NOTICE \nThe Planning Board of the Town of Nahant will hold a Public Hearing on Tuesday\, April 14th\, 2026 beginning at 6:30pm. The meeting will be hybrid; both in-person in the Town Hall\, lower level and via ZOOM. \nZOOM DETAILS: \nhttps://us02web.zoom.us/j/84997264678?pwd=fhNSBLLM1Gag5GPYATagvnA4OuueKg.1 \nMeeting ID: 849 9726 4678    Passcode: 442510 \nOne tap mobile:  +13092053325\,\,84997264678#\,\,\,\,*442510# US\n+13126266799\,\,84997264678#\,\,\,\,*442510# US (Chicago) \nQuestions and comments will be limited to 5 minutes per person. \nThe PUBLIC HEARING is to amend the Nahant zoning bylaw section 13\, Wireless Communication Facilities. The amendments include: adding section 13.08: \n1.) The application for an Eligible Facilities Request shall be made to the Administrative Approval Granting Authority\, the Planning Board.\n2.) The design of the Eligible Facilities Request shall maintain the original appearance.\n3.) The Town Clerk shall accept application and materials/documentation.\n4.) Eligible Facilities Requests shall demonstrate compliance with all FCC rules and regulations.\n5.) Radio Frequency Emissions Analysis: This MPE report shall include all existing and proposed new equipment. \nAnd additional updates concerning enforcement\, consultant fees\, MPE reports exceeding FCC limitations\, spelling corrections\, and improvement to certain sentences for clarity. \nCopies of the revised zoning bylaws section 13 are available at the Town Clerk’s office and Town website\, Nahant.org. Also\, it will be available for review at the Public Hearing. \nPosted 3/31/2026 and 4/7/2026 = Lynn Item & Nahant Town Clerk \nChairperson Name:  Sheila Hambleton       Chairperson Email:  SHAMBLETON@NAHANT.ORG \nPosted by Nahant Town Clerk on Tuesday\, March 31\, 2026 @ 9:56 am
URL:https://nahant.org/calendar/planning-board-hearing-4/
LOCATION:HYBRID – ZOOM and Nahant Town Hall Conference Room\, 334 Nahant Road\, Nahant\, 01908
CATEGORIES:Municipal Meetings
END:VEVENT
END:VCALENDAR