BEGIN:VCALENDAR
VERSION:2.0
PRODID:-//Town of Nahant, Massachusetts - ECPv6.15.20//NONSGML v1.0//EN
CALSCALE:GREGORIAN
METHOD:PUBLISH
X-WR-CALNAME:Town of Nahant, Massachusetts
X-ORIGINAL-URL:https://nahant.org
X-WR-CALDESC:Events for Town of Nahant, Massachusetts
REFRESH-INTERVAL;VALUE=DURATION:PT1H
X-Robots-Tag:noindex
X-PUBLISHED-TTL:PT1H
BEGIN:VTIMEZONE
TZID:America/New_York
BEGIN:DAYLIGHT
TZOFFSETFROM:-0500
TZOFFSETTO:-0400
TZNAME:EDT
DTSTART:20250309T070000
END:DAYLIGHT
BEGIN:STANDARD
TZOFFSETFROM:-0400
TZOFFSETTO:-0500
TZNAME:EST
DTSTART:20251102T060000
END:STANDARD
BEGIN:DAYLIGHT
TZOFFSETFROM:-0500
TZOFFSETTO:-0400
TZNAME:EDT
DTSTART:20260308T070000
END:DAYLIGHT
BEGIN:STANDARD
TZOFFSETFROM:-0400
TZOFFSETTO:-0500
TZNAME:EST
DTSTART:20261101T060000
END:STANDARD
BEGIN:DAYLIGHT
TZOFFSETFROM:-0500
TZOFFSETTO:-0400
TZNAME:EDT
DTSTART:20270314T070000
END:DAYLIGHT
BEGIN:STANDARD
TZOFFSETFROM:-0400
TZOFFSETTO:-0500
TZNAME:EST
DTSTART:20271107T060000
END:STANDARD
END:VTIMEZONE
BEGIN:VEVENT
DTSTART;TZID=America/New_York:20260402T183000
DTEND;TZID=America/New_York:20260402T223000
DTSTAMP:20260423T101039
CREATED:20260330T193050Z
LAST-MODIFIED:20260331T145315Z
UID:29705-1775154600-1775169000@nahant.org
SUMMARY:Advisory and Finance Committee
DESCRIPTION:Venue:  Zoom virtual meeting \nJoin Zoom Meeting\nhttps://us02web.zoom.us/j/81641879445?pwd=aLURhUwe1gaRX6Y8lKcPp3n2PberJu.1 \nMeeting ID: 816 4187 9445     Passcode: 749534 \nOne tap mobile\n+13126266799\,\,81641879445#\,\,\,\,*749534# US (Chicago)\n+16469313860\,\,81641879445#\,\,\,\,*749534# US \nAgenda:\n– Articles (Housing Trust\, Rodenticide\, Public Safety Design\, Transferable Parking Permits\, Town Meeting\, Wireless Communication\, etc)\n– Override approach\, including Fire Department\n– Administrative\n– Public forum \nChairperson Name:   Robert Vanderslice     Chairperson Email:   RVANDERSLICE@COMCAST.NET \nPosted by Nahant Town Clerk on Monday\, March 30\, 2026 @ 3:30pm
URL:https://nahant.org/calendar/advisory-and-finance-committee-26/
LOCATION:Zoom
CATEGORIES:Municipal Meetings
END:VEVENT
END:VCALENDAR