BEGIN:VCALENDAR
VERSION:2.0
PRODID:-//Town of Nahant, Massachusetts - ECPv6.15.20//NONSGML v1.0//EN
CALSCALE:GREGORIAN
METHOD:PUBLISH
X-ORIGINAL-URL:https://nahant.org
X-WR-CALDESC:Events for Town of Nahant, Massachusetts
REFRESH-INTERVAL;VALUE=DURATION:PT1H
X-Robots-Tag:noindex
X-PUBLISHED-TTL:PT1H
BEGIN:VTIMEZONE
TZID:America/New_York
BEGIN:DAYLIGHT
TZOFFSETFROM:-0500
TZOFFSETTO:-0400
TZNAME:EDT
DTSTART:20240310T070000
END:DAYLIGHT
BEGIN:STANDARD
TZOFFSETFROM:-0400
TZOFFSETTO:-0500
TZNAME:EST
DTSTART:20241103T060000
END:STANDARD
BEGIN:DAYLIGHT
TZOFFSETFROM:-0500
TZOFFSETTO:-0400
TZNAME:EDT
DTSTART:20250309T070000
END:DAYLIGHT
BEGIN:STANDARD
TZOFFSETFROM:-0400
TZOFFSETTO:-0500
TZNAME:EST
DTSTART:20251102T060000
END:STANDARD
BEGIN:DAYLIGHT
TZOFFSETFROM:-0500
TZOFFSETTO:-0400
TZNAME:EDT
DTSTART:20260308T070000
END:DAYLIGHT
BEGIN:STANDARD
TZOFFSETFROM:-0400
TZOFFSETTO:-0500
TZNAME:EST
DTSTART:20261101T060000
END:STANDARD
END:VTIMEZONE
BEGIN:VEVENT
DTSTART;TZID=America/New_York:20250512T130000
DTEND;TZID=America/New_York:20250512T140000
DTSTAMP:20260422T081055
CREATED:20250512T181017Z
LAST-MODIFIED:20250515T182714Z
UID:10001622-1747054800-1747058400@nahant.org
SUMMARY:Library Building Committee Meeting
DESCRIPTION:Venue: Nahant Public Library  \nOrganizer Name: Nori Morganstein   Organizer Email: nmorganstein@nahant.org  \nAgenda: To discuss the latest Master Plan Draft with the architect\, Richard Smith
URL:https://nahant.org/calendar/library-building-committee-meeting-nahant-public-library-event-start-date-05-12-2025-end-date-05-12-2025-start-time-100-pm-end-time-200-pm-timezone-america-new_york-number-of-occurren/
LOCATION:Nahant Public Library – Computer Room\, 15 Pleasant Street\, NAHANT\, MA\, 01908\, United States
CATEGORIES:Nahant Library Events
END:VEVENT
BEGIN:VEVENT
DTSTART;TZID=America/New_York:20250503T130000
DTEND;TZID=America/New_York:20250503T150000
DTSTAMP:20260422T081055
CREATED:20250425T131702Z
LAST-MODIFIED:20250425T131702Z
UID:10001601-1746277200-1746284400@nahant.org
SUMMARY:Nahant Public Library Open House
DESCRIPTION:Come take a tour of the historic Nahant Public Library as they celebrate 130 years!
URL:https://nahant.org/calendar/nahant-public-library-open-house/
LOCATION:Nahant Public Library – Computer Room\, 15 Pleasant Street\, NAHANT\, MA\, 01908\, United States
CATEGORIES:Community Event
END:VEVENT
END:VCALENDAR