BEGIN:VCALENDAR
VERSION:2.0
PRODID:-//Town of Nahant, Massachusetts - ECPv6.15.20//NONSGML v1.0//EN
CALSCALE:GREGORIAN
METHOD:PUBLISH
X-ORIGINAL-URL:https://nahant.org
X-WR-CALDESC:Events for Town of Nahant, Massachusetts
REFRESH-INTERVAL;VALUE=DURATION:PT1H
X-Robots-Tag:noindex
X-PUBLISHED-TTL:PT1H
BEGIN:VTIMEZONE
TZID:America/New_York
BEGIN:DAYLIGHT
TZOFFSETFROM:-0500
TZOFFSETTO:-0400
TZNAME:EDT
DTSTART:20250309T070000
END:DAYLIGHT
BEGIN:STANDARD
TZOFFSETFROM:-0400
TZOFFSETTO:-0500
TZNAME:EST
DTSTART:20251102T060000
END:STANDARD
BEGIN:DAYLIGHT
TZOFFSETFROM:-0500
TZOFFSETTO:-0400
TZNAME:EDT
DTSTART:20260308T070000
END:DAYLIGHT
BEGIN:STANDARD
TZOFFSETFROM:-0400
TZOFFSETTO:-0500
TZNAME:EST
DTSTART:20261101T060000
END:STANDARD
BEGIN:DAYLIGHT
TZOFFSETFROM:-0500
TZOFFSETTO:-0400
TZNAME:EDT
DTSTART:20270314T070000
END:DAYLIGHT
BEGIN:STANDARD
TZOFFSETFROM:-0400
TZOFFSETTO:-0500
TZNAME:EST
DTSTART:20271107T060000
END:STANDARD
END:VTIMEZONE
BEGIN:VEVENT
DTSTART;TZID=America/New_York:20260506T090000
DTEND;TZID=America/New_York:20260506T103000
DTSTAMP:20260422T074226
CREATED:20250820T165224Z
LAST-MODIFIED:20250820T165224Z
UID:10001811-1778058000-1778063400@nahant.org
SUMMARY:Veterans Mobile Food Market
DESCRIPTION:Farmer’s market style distribution of assorted foods for Veterans and their Families. \nWHERE: Food will be distributed at the Nahant Life Saving Station\, 96 Nahant Rd. Nahant\, MA. \nWith the help of community partners and volunteers\, we provide healthy food to veterans and families.  Please return any reusable grocery bags. \nPre-registration-FIRST TIME ONLY \nContact: Jon Lazar\, Vet’s Agent: 617-549-8760 or Mary Miner\, Council on Aging: 781-581-7557
URL:https://nahant.org/calendar/veterans-mobile-food-market-40/
LOCATION:Nahant Life Saving Station\, 96 Nahant Road\, Nahant\, MA\, 01908\, United States
CATEGORIES:Community Event
END:VEVENT
BEGIN:VEVENT
DTSTART;TZID=America/New_York:20260506T183000
DTEND;TZID=America/New_York:20260506T193000
DTSTAMP:20260422T074226
CREATED:20260401T164841Z
LAST-MODIFIED:20260401T164841Z
UID:10002285-1778092200-1778095800@nahant.org
SUMMARY:Board of Selectmen Hearing
DESCRIPTION:Venue:  ZOOM\nhttps://us02web.zoom.us/j/86193060181?pwd=Ou4EMtPLytrCk30HFKe2f5b1rwMoN2.1 \nMeeting ID: 861 9306 0181    Passcode: 845533 \n+19292056099\,\,86193060181#\,\,\,\,*845533# US (New York)\n+13017158592\,\,86193060181#\,\,\,\,*845533# US (Washington DC) \nAgenda:\nThe Nahant Board of Selectmen will be holding a public hearing on Wednesday May 06\, 2026 at 6:30pm via ZOOM and local broadcasting on a petition from Massachusetts Electric Company d/b/a National Grid and Verizon New England\, Inc. to locate\, poles\, wires\, and fixtures\, including the necessary sustaining and protecting fixtures\, along and across the following public way: Pleasant St. National Grid to install 1 JO Pole on Pleasant Street beginning at a point approximately 21 feet West of the centerline of the intersection of Pleasant Street and Spouting Horn Road and continuing approximately 6 feet in a Northwest direction. National Grid to install a 40’ class 3 pole in order to accommodate for a span guy and anchored guy to fix and prevent further leaning of pole #1. \n  \nOrganizer  Name:  Kristin Taylor      Organizer  Email:  ktaylor@nahant.org \nPosted by Nahant Town Clerk on Wednesday\, April 1\, 2026 @ 12:48 pm
URL:https://nahant.org/calendar/board-of-selectmen-hearing-2/
LOCATION:Zoom
CATEGORIES:Municipal Meetings
ORGANIZER;CN="Kristin Taylor":MAILTO:ktaylor@nahant.org
END:VEVENT
END:VCALENDAR