BEGIN:VCALENDAR
VERSION:2.0
PRODID:-//Town of Nahant, Massachusetts - ECPv6.15.20//NONSGML v1.0//EN
CALSCALE:GREGORIAN
METHOD:PUBLISH
X-WR-CALNAME:Town of Nahant, Massachusetts
X-ORIGINAL-URL:https://nahant.org
X-WR-CALDESC:Events for Town of Nahant, Massachusetts
REFRESH-INTERVAL;VALUE=DURATION:PT1H
X-Robots-Tag:noindex
X-PUBLISHED-TTL:PT1H
BEGIN:VTIMEZONE
TZID:America/New_York
BEGIN:DAYLIGHT
TZOFFSETFROM:-0500
TZOFFSETTO:-0400
TZNAME:EDT
DTSTART:20250309T070000
END:DAYLIGHT
BEGIN:STANDARD
TZOFFSETFROM:-0400
TZOFFSETTO:-0500
TZNAME:EST
DTSTART:20251102T060000
END:STANDARD
BEGIN:DAYLIGHT
TZOFFSETFROM:-0500
TZOFFSETTO:-0400
TZNAME:EDT
DTSTART:20260308T070000
END:DAYLIGHT
BEGIN:STANDARD
TZOFFSETFROM:-0400
TZOFFSETTO:-0500
TZNAME:EST
DTSTART:20261101T060000
END:STANDARD
BEGIN:DAYLIGHT
TZOFFSETFROM:-0500
TZOFFSETTO:-0400
TZNAME:EDT
DTSTART:20270314T070000
END:DAYLIGHT
BEGIN:STANDARD
TZOFFSETFROM:-0400
TZOFFSETTO:-0500
TZNAME:EST
DTSTART:20271107T060000
END:STANDARD
END:VTIMEZONE
BEGIN:VEVENT
DTSTART;TZID=America/New_York:20260415T090000
DTEND;TZID=America/New_York:20260415T160000
DTSTAMP:20260422T062551
CREATED:20260408T191221Z
LAST-MODIFIED:20260413T130432Z
UID:10002294-1776243600-1776268800@nahant.org
SUMMARY:Early Voting for Local Elections
DESCRIPTION:EARLY  VOTING & Last Day to Register to Vote for Annual Town Election \n9am – 4pm \nEarly Voting: Town Clerk’s Office \nRegister to Vote: Online:  https://www.sec.state.ma.us/ovr/ \nor  Town Clerk’s Office
URL:https://nahant.org/calendar/early-voting-for-local-elections/
LOCATION:Nahant Town Hall- Town Clerk’s Office\, 334 Nahant Road\, Nahant\, MA\, 01908\, United States
CATEGORIES:Community Event
END:VEVENT
BEGIN:VEVENT
DTSTART;TZID=America/New_York:20260415T183000
DTEND;TZID=America/New_York:20260415T203000
DTSTAMP:20260422T062551
CREATED:20260413T124645Z
LAST-MODIFIED:20260413T124748Z
UID:10002302-1776277800-1776285000@nahant.org
SUMMARY:Board of Selectmen Meeting
DESCRIPTION:Venue: Hybrid – ZOOM and Town Hall Conference Room \nJoin Zoom:  https://us02web.zoom.us/j/84541810048?pwd=F34pQkAobDRae8GaXmisqPCPIkDhtV.1 \nMeeting ID: 845 4181 0048      Passcode: 691079 \nPhone:          +13092053325\,\,84541810048#\,\,\,\,*691079# US\n+13126266799\,\,84541810048#\,\,\,\,*691079# US (Chicago) \nAgenda:\nRobert Tibbo\, Chairman\, Gene Canty\, Vice Chairman\nPatrick O’Reilly\, Recording Secretary\, Alison Nieto\, Town Administrator \n1. Meeting Opening\n2. Opening Comments\na. Resident Parking Stickers: now available for purchase at nahant.org\nb. Annual Town Census: The 2026 Annual Town Census has been mailed to residents. Resident Parking stickers will not be approved without a completed census. For more info on the census contact the Town Clerk\nc. Annual Dog Licenses: Dog Licenses were due back to the Town Clerk by April 1\, 2026. Any licenses submitted after April 1st will be charged a $20 late fee.\nd. Scholarships: Visit the Scholarships page at nahant.org for a list of Scholarships offered to Nahant Residents and Students\ne. Metal/White Goods/TV Recycling: Last Saturday of each month from April 25th thru October 31st from 8am-noon behind the DPW garage. Certain fees apply. Visit nahant.org for more information.\nf. Spring Leaf Pick-Up: Curbside leaf pick-up on Mondays beginning April 27th. Visit nahant.org for list of accepted material. Resident sticker required.\ng. Compost Area: Open on Wednesdays and Saturdays from 9:00am to 3:00pm beginning April 4th. Visit nahant.org for a full list of accepted material. Resident sticker required\nh. YMCA Stride Along the Tide 5K Road Race: Saturday May 09\, 2026 beginning at 8:15am at the Lowlands Park. Visit the community calendar at nahant.org for information on how to sign up for the race.\ni. Town Hall Internship: The Town Hall is currently seeking a college aged student for a paid part time internship at Town Hall this summer. Full job description and where to send resumes at nahant.org. Accepting resumes until May 15\, 2026.\nj. Town Election: Saturday April 25\, 2026. Election polling hours will be from 7:00am to 7:00pm at the Nahant Town Hall. For more information and early voting hours contact the Town Clerk or visit the Town Election page at nahant.org\nk. Annual Town Meeting: Saturday May 16\, 2026 beginning at 12:30pm at Nahant Town Hall. For more information contact the Town Clerk.\n3. New Business\na. Discussion – Petition to make Surf View Avenue a one way\nb. Vote to Appoint the new Treasurer/Collector\nc. Vote to Appoint members to the MBTA Advisory Committee\, the Golf Committee and MAPC.\nd. Vote to Appoint Assistant Wharfinger\ne. Vote to Approve and Sign the MWRA Financial Agreements and Bond forms.\nf. Vote to revise the hours of Nahant’s Annual Town Election on Saturday April 25\, 2026.\ng. Vote to approve event request: Apollo club of Boston Concert\nh. Vote to Approve Board of Selectmen meeting minutes\n4. Ongoing Business\na. Vote to Approve the Board of Selectmen Omnibus budget and send to the Advisory and Finance Committee\nb. Vote to Open and Close the Annual Town Meeting Warrant and send to the Advisory and Finance Committee\n5. Town Administrators Report\n6. Citizens Comment\n7. Adjourn \nOrganizer Name:  Kristin Taylor         Chairperson Email:    ktaylor@nahant.org \n  \nPosted by Nahant Town Clerk on Monday\, April 13\, 2026 @ 8:46 am
URL:https://nahant.org/calendar/board-of-selectmen-meeting-63/
LOCATION:HYBRID – ZOOM and Nahant Town Hall Conference Room\, 334 Nahant Road\, Nahant\, 01908
CATEGORIES:Municipal Meetings
ORGANIZER;CN="Kristin Taylor":MAILTO:ktaylor@nahant.org
END:VEVENT
BEGIN:VEVENT
DTSTART;TZID=America/New_York:20260415T190000
DTEND;TZID=America/New_York:20260415T210000
DTSTAMP:20260422T062551
CREATED:20260410T130941Z
LAST-MODIFIED:20260410T130941Z
UID:10002300-1776279600-1776286800@nahant.org
SUMMARY:Nahant Conservation Commission
DESCRIPTION:Agenda:\nNahant Conservation Commission \nApril 15\, 2026 at 7:00 PM  via ZOOM \nJoin Via Zoom Meeting\nhttps://us02web.zoom.us/j/82755012482\nMeeting ID: 827 5501 2482 \nAGENDA\n1. Request for Determination of Applicability\, Off Doggie Beach\nNortheastern University Marine Science Center (Diana Chin)\nHarvest eelgrass near the Wharf and transplant to the area off Doggie Beach. Work is proposed within Land Under the Ocean. \nOther Business:\nUpdate on MassDOT bike path project laydown area – potential enforcement action \nApproval of Meeting Minutes\n• March 24\, 2026 \n*The Commission reserves the right to consider items on the agenda out of order. Not all items listed may in fact be discussed and other items not listed may also be brought up for discussion to the extent permitted by law. \nOrganizer  Name: Kristin Kent\, Conservation Agent         Organizer  Email: conservation@nahant.org \nPosted by Nahant Town Clerk on Friday\, April 10\, 2026 @ 9:09 am
URL:https://nahant.org/calendar/nahant-conservation-commission-15/
LOCATION:Zoom
CATEGORIES:Municipal Meetings
END:VEVENT
END:VCALENDAR